BEGIN:VCALENDAR
VERSION:2.0
PRODID:icalendar-ruby
CALSCALE:GREGORIAN
BEGIN:VEVENT
DTSTAMP:20260419T223524Z
UID:bfd4beba-fb04-4224-8e57-7bb1b30f45e7
DTSTART;TZID=Pacific/Auckland:20260419T100000
DTEND;TZID=Pacific/Auckland:20260419T103000
DESCRIPTION:Property ID# 603366
SUMMARY:Openhome for 81 Solan Drive
END:VEVENT
END:VCALENDAR
