BEGIN:VCALENDAR
VERSION:2.0
PRODID:icalendar-ruby
CALSCALE:GREGORIAN
BEGIN:VEVENT
DTSTAMP:20260419T223612Z
UID:a54ab6b4-fcb2-4818-b46a-0a9a2a193b32
DTSTART;TZID=Pacific/Auckland:20260419T114500
DTEND;TZID=Pacific/Auckland:20260419T121500
DESCRIPTION:Property ID# 604744
SUMMARY:Openhome for 62 Dysart Lane
END:VEVENT
END:VCALENDAR
