BEGIN:VCALENDAR
VERSION:2.0
PRODID:icalendar-ruby
CALSCALE:GREGORIAN
BEGIN:VEVENT
DTSTAMP:20260419T223807Z
UID:b9df6aa2-4359-444d-95c4-e5a998f1170e
DTSTART;TZID=Pacific/Auckland:20260419T104500
DTEND;TZID=Pacific/Auckland:20260419T111500
DESCRIPTION:Property ID# 599939
SUMMARY:Openhome for 1223 Old North Road
END:VEVENT
END:VCALENDAR
