BEGIN:VCALENDAR
VERSION:2.0
PRODID:icalendar-ruby
CALSCALE:GREGORIAN
BEGIN:VEVENT
DTSTAMP:20260422T092605Z
UID:bb5e73f8-c071-40aa-a7b0-959d6ff9d3be
DTSTART;VALUE=DATE:20201017
DESCRIPTION:Property ID# 490797\, Locatoin: In Room - Ray White Pinehill Of
 fice (537A East Coast Rd\, Browns Bay)\, Time: 3:00PM
SUMMARY:Auction for 
END:VEVENT
END:VCALENDAR
